BEGIN:VCALENDAR
VERSION:2.0
PRODID:-//Wake Forest Matters - ECPv6.15.20//NONSGML v1.0//EN
CALSCALE:GREGORIAN
METHOD:PUBLISH
X-WR-CALNAME:Wake Forest Matters
X-ORIGINAL-URL:https://wakeforestmatters.com
X-WR-CALDESC:Events for Wake Forest Matters
REFRESH-INTERVAL;VALUE=DURATION:PT1H
X-Robots-Tag:noindex
X-PUBLISHED-TTL:PT1H
BEGIN:VTIMEZONE
TZID:America/New_York
BEGIN:DAYLIGHT
TZOFFSETFROM:-0500
TZOFFSETTO:-0400
TZNAME:EDT
DTSTART:20250309T070000
END:DAYLIGHT
BEGIN:STANDARD
TZOFFSETFROM:-0400
TZOFFSETTO:-0500
TZNAME:EST
DTSTART:20251102T060000
END:STANDARD
BEGIN:DAYLIGHT
TZOFFSETFROM:-0500
TZOFFSETTO:-0400
TZNAME:EDT
DTSTART:20260308T070000
END:DAYLIGHT
BEGIN:STANDARD
TZOFFSETFROM:-0400
TZOFFSETTO:-0500
TZNAME:EST
DTSTART:20261101T060000
END:STANDARD
BEGIN:DAYLIGHT
TZOFFSETFROM:-0500
TZOFFSETTO:-0400
TZNAME:EDT
DTSTART:20270314T070000
END:DAYLIGHT
BEGIN:STANDARD
TZOFFSETFROM:-0400
TZOFFSETTO:-0500
TZNAME:EST
DTSTART:20271107T060000
END:STANDARD
END:VTIMEZONE
BEGIN:VEVENT
DTSTART;TZID=America/New_York:20260423T090000
DTEND;TZID=America/New_York:20260423T170000
DTSTAMP:20260423T064630
CREATED:20260422T205104Z
LAST-MODIFIED:20260422T205104Z
UID:15403-1776934800-1776963600@wakeforestmatters.com
SUMMARY:Raleigh Water Lane Closure – Wingate Street (South Ave to North Ave)
DESCRIPTION:Raleigh Water will reduce to one lane with intermittent two-way traffic a portion of Wingate Street between South Avenue and North Avenue. The temporary lane closure is necessary to allow crews to safely perform maintenance work on the sewer lines. Water and sewer service in the area will not be affected. \nSignage and flaggers will be in place managing traffic flow and safely directing motorists through the work area. Delays are expected\, so drivers may wish to avoid the area and take an alternate route. \nFor more information\, email Raleigh Water’s Andrew Chalk at andrew.chalk@raleighnc.gov. \nView the Town of Wake Forest Traffic Alerts Map: https://bit.ly/WFTrafficMap
URL:https://wakeforestmatters.com/event/raleigh-water-lane-closure-wingate-street-south-ave-to-north-ave/
ATTACH;FMTTYPE=image/jpeg:https://wakeforestmatters.com/wp-content/uploads/2026/04/wake-forest-traffic-alerts-map.jpg
END:VEVENT
END:VCALENDAR