BEGIN:VCALENDAR
VERSION:2.0
PRODID:-//Wake Forest Matters - ECPv6.15.20//NONSGML v1.0//EN
CALSCALE:GREGORIAN
METHOD:PUBLISH
X-WR-CALNAME:Wake Forest Matters
X-ORIGINAL-URL:https://wakeforestmatters.com
X-WR-CALDESC:Events for Wake Forest Matters
REFRESH-INTERVAL;VALUE=DURATION:PT1H
X-Robots-Tag:noindex
X-PUBLISHED-TTL:PT1H
BEGIN:VTIMEZONE
TZID:America/New_York
BEGIN:DAYLIGHT
TZOFFSETFROM:-0500
TZOFFSETTO:-0400
TZNAME:EDT
DTSTART:20250309T070000
END:DAYLIGHT
BEGIN:STANDARD
TZOFFSETFROM:-0400
TZOFFSETTO:-0500
TZNAME:EST
DTSTART:20251102T060000
END:STANDARD
BEGIN:DAYLIGHT
TZOFFSETFROM:-0500
TZOFFSETTO:-0400
TZNAME:EDT
DTSTART:20260308T070000
END:DAYLIGHT
BEGIN:STANDARD
TZOFFSETFROM:-0400
TZOFFSETTO:-0500
TZNAME:EST
DTSTART:20261101T060000
END:STANDARD
BEGIN:DAYLIGHT
TZOFFSETFROM:-0500
TZOFFSETTO:-0400
TZNAME:EDT
DTSTART:20270314T070000
END:DAYLIGHT
BEGIN:STANDARD
TZOFFSETFROM:-0400
TZOFFSETTO:-0500
TZNAME:EST
DTSTART:20271107T060000
END:STANDARD
END:VTIMEZONE
BEGIN:VEVENT
DTSTART;TZID=America/New_York:20260519T180000
DTEND;TZID=America/New_York:20260519T180000
DTSTAMP:20260421T070411
CREATED:20260415T235107Z
LAST-MODIFIED:20260416T000915Z
UID:14720-1779213600-1779213600@wakeforestmatters.com
SUMMARY:Board of Commissioners Meeting
DESCRIPTION:The Wake Forest Farmers’ Market is open on Saturday\, May 23\, 2026 from 8:00 AM to 12:00 PM. Late May brings some of the finest spring produce — strawberries\, fresh herbs\, early summer tomatoes\, and artisan goods filling the vendor stalls. \nThe Wake Forest Farmers’ Market is one of the most cherished weekly traditions in the community. Local vendors set up early\, regulars know their favorites\, and newcomers always discover something worth bringing home. \nShopping Local at the Wake Forest Farmers’ Market\nBeyond produce\, the market features locally made food products\, artisan cheeses\, specialty coffees\, handmade crafts\, and wellness products. Live acoustic music sets the mood. \nShopping the market is one of the most direct ways to support Wake Forest’s local economy. Read our community section and explore parks and recreation events nearby. Details at the Town of Wake Forest Farmers Market page. Full calendar at Wake Forest Matters Events.
URL:https://wakeforestmatters.com/event/board-of-commissioners-meeting/
END:VEVENT
BEGIN:VEVENT
DTSTART;TZID=America/New_York:20260517T173000
DTEND;TZID=America/New_York:20260517T193000
DTSTAMP:20260421T070411
CREATED:20260415T235107Z
LAST-MODIFIED:20260416T000916Z
UID:14722-1779039000-1779046200@wakeforestmatters.com
SUMMARY:Six Sundays in Spring
DESCRIPTION:Six Sundays in Spring brings free live music back to Joyner Park on Sunday\, May 17\, 2026 in Wake Forest. This installment of the beloved outdoor concert series promises another afternoon of great music\, fresh air\, and community energy. \nSix Sundays in Spring draws a wide cross-section of Wake Forest — young families\, older neighbors\, dog walkers\, and first-time attendees alike. No tickets\, no admission fee. Just come as you are to enjoy free live music at Joyner Park. \nWhy Wake Forest Loves Six Sundays in Spring\nJoyner Park is the civic heart of Wake Forest’s outdoor culture. The Six Sundays in Spring concert series makes the most of that space\, providing a weekly gathering point that reinforces community bonds. Wake Forest Matters covers the role of parks and recreation in building livability and community programming in a well-rounded town. Full schedule at the Town of Wake Forest Six Sundays page. See all events at the Wake Forest Matters Events Calendar.
URL:https://wakeforestmatters.com/event/six-sundays-in-spring-3/
END:VEVENT
BEGIN:VEVENT
DTSTART;TZID=America/New_York:20260516T080000
DTEND;TZID=America/New_York:20260516T120000
DTSTAMP:20260421T070411
CREATED:20260415T235108Z
LAST-MODIFIED:20260416T000917Z
UID:14726-1778918400-1778932800@wakeforestmatters.com
SUMMARY:Farmers' Market
DESCRIPTION:Six Sundays in Spring falls on Sunday\, May 10\, 2026 — Mother’s Day — at Joyner Park in Wake Forest. This outdoor concert series brings residents together for free live music and community connection in one of Wake Forest’s most scenic parks. \nWhat better way to celebrate Mother’s Day in Wake Forest than a free afternoon of live music at Joyner Park? Bring the whole family out for performances\, outdoor relaxation\, and celebration. Just show up\, find a spot on the lawn\, and let the music do the rest. \nSix Sundays in Spring: A Wake Forest Tradition\nNow a genuine Wake Forest tradition\, Six Sundays in Spring builds neighborhood identity over time. Performers rotate each week\, offering eclectic genres while maintaining the relaxed\, family-friendly atmosphere that makes the series such a draw. Wake Forest Matters covers the parks and recreation programming that makes Wake Forest a great place to live. More in our community section and the Wake Forest Matters Events Calendar. Full schedule at the Town of Wake Forest Six Sundays page.
URL:https://wakeforestmatters.com/event/farmers-market-5/
END:VEVENT
BEGIN:VEVENT
DTSTART;TZID=America/New_York:20260516T000000
DTEND;TZID=America/New_York:20260516T235900
DTSTAMP:20260421T070411
CREATED:20260415T235108Z
LAST-MODIFIED:20260420T123328Z
UID:14724-1778889600-1778975940@wakeforestmatters.com
SUMMARY:Family Movie Night at Joyner Park
DESCRIPTION:Family Movie Night at Joyner Park brings free outdoor movies to Wake Forest. This community event takes place at Joyner Park. Bring your lawn chairs\, blankets\, and favorite snacks for a great night under the stars. \nThis free event is family-friendly and open to all ages. No tickets or reservations are needed. Furthermore\, the park’s open fields make it perfect for groups to spread out and enjoy the film together. \nA Community Tradition \nFamily Movie Night at Joyner Park brings neighbors together each season. In addition\, events like this one celebrate the spirit of Wake Forest’s vibrant community. Whether you bring kids\, friends\, or the whole family\, you won’t want to miss this night out. \nMoreover\, the park offers plenty of open space for everyone to find a comfortable spot. Come early to grab the best view. \nMore Wake Forest Events \nFor more free events in Wake Forest\, visit our full community events calendar. Wake Forest Matters keeps you informed about upcoming activities\, concerts\, and local events every week.
URL:https://wakeforestmatters.com/event/family-movie-night-at-joyner-park-2/
END:VEVENT
BEGIN:VEVENT
DTSTART;TZID=America/New_York:20260507T070000
DTEND;TZID=America/New_York:20260507T130000
DTSTAMP:20260421T070411
CREATED:20260406T210755Z
LAST-MODIFIED:20260406T231438Z
UID:13053-1778137200-1778158800@wakeforestmatters.com
SUMMARY:Wake Forest National Day of Prayer 2026
DESCRIPTION:📅 Date: Thursday\, May 7\, 2026\n⏰ Time: 7:00 AM – 1:00 PM\n📍 Morning Breakfast: Ledford Student Center\, SEBTS\, 113 N Wingate St\, Wake Forest\, NC 27587\n📍 Noon Gathering: Wake Forest Town Hall Flagpole\, 301 S Brooks St\, Wake Forest\, NC 27587\n💵 Cost: Free \nJoin us for the Wake Forest Day of Prayer 2026 on Thursday\, May 7th. This annual community event is a chance to gather in faith and lift up our neighbors\, schools\, hospitals\, first responders\, and local leaders in prayer. Also\, it is completely free and open to everyone. \n7:00 AM — Wake Forest Day of Prayer Breakfast at SEBTS\nFirst\, the morning begins with a Prayer Breakfast at the Ledford Student Center\, on the campus of Southeastern Baptist Theological Seminary (SEBTS)\, 113 N Wingate St\, Wake Forest\, NC 27587. However\, registration is required in advance. You can register online at SEBTS.edu before the event. The breakfast is a time for fellowship\, reflection\, and prayer over a morning meal. Plan to arrive a few minutes early to find your seat and connect with fellow community members. \n12:00 Noon — Community Gathering at Town Hall\nNext\, at noon\, the community gathers at the Flagpole in front of Wake Forest Town Hall\, 301 S Brooks St\, Wake Forest\, NC 27587. Additionally\, no registration is needed for this portion of the event. You are welcome to attend either the morning breakfast\, the noon gathering\, or both. The noon gathering is an outdoor\, public prayer service open to all residents and visitors. Together\, participants pray for the unity\, safety\, and well-being of our community and beyond. \nEveryone Is Welcome\nThe Wake Forest National Day of Prayer 2026 is free and open to all. Furthermore\, it is a non-denominational event that welcomes people of all backgrounds and faiths. Finally\, come ready to connect with neighbors\, share in community spirit\, and celebrate the power of prayer in our town. No prior registration is needed for the noon gathering — just show up and join in.
URL:https://wakeforestmatters.com/event/wake-forest-national-day-of-prayer/
LOCATION:Wake Forest Town Hall Flagpole\, 301 S Brooks St\, Wake Forest\, NC\, 27587\, United States
END:VEVENT
BEGIN:VEVENT
DTSTART;TZID=America/New_York:20260428T180000
DTEND;TZID=America/New_York:20260428T180000
DTSTAMP:20260421T070411
CREATED:20260416T213133Z
LAST-MODIFIED:20260420T120207Z
UID:15010-1777399200-1777399200@wakeforestmatters.com
SUMMARY:Wake Forest Community Youth Orchestra's 2026 Spring Concert
DESCRIPTION:Join us for the Wake Forest Community Youth Orchestra’s 2026 Spring Concert on Tuesday\, April 28\, 2026 at 6:00 p.m. This free community concert is a wonderful opportunity to experience live orchestral music. Furthermore\, it features talented young musicians right here in Wake Forest\, NC. \nVenue: Friendship Chapel Baptist Church\nAddress: 237 Friendship Chapel Rd\, Wake Forest\, NC 27587\nStart Time: 6:00 p.m.\nAdmission: FREE \nThis spring\, we are thrilled to welcome Winifred Garrett\, Principal Harpist of the Fayetteville Symphony\, as our special guest artist. Moreover\, following the performance\, stick around for an ice cream social. It’s a great way to celebrate our young musicians and connect with the Wake Forest community! \nReserve your free concert tickets now to guarantee your seat. Space may be limited\, so register early. In addition\, we would love to have you join us for this special evening. \nFor more free events in Wake Forest\, visit our community events calendar. There’s always something wonderful happening in Wake Forest\, NC.
URL:https://wakeforestmatters.com/event/wake-forest-youth-orchestra-spring-concert-2026/
ATTACH;FMTTYPE=image/jpeg:https://wakeforestmatters.com/wp-content/uploads/2026/04/672270858_1351403977020170_4528108908797255038_n-1.jpg
END:VEVENT
BEGIN:VEVENT
DTSTART;TZID=America/New_York:20260424T130000
DTEND;TZID=America/New_York:20260424T163000
DTSTAMP:20260421T070411
CREATED:20260413T003835Z
LAST-MODIFIED:20260420T115512Z
UID:13324-1777035600-1777048200@wakeforestmatters.com
SUMMARY:Speaking Across Conflict Workshop
DESCRIPTION:Venue: Wake Forest Christian Church\nAddress: 701 South Main Street\, Wake Forest\, NC\nStart Time: 1:00 PM\nEnd Time: 4:30 PM \nThe Speaking Across Conflict Workshop in Wake Forest is a communication skill-building event for difficult conversations. This workshop is hosted by Wake Forest Christian Church. Furthermore\, it offers a practical framework for vibrant dialogue across diverse viewpoints\, backgrounds\, and generations. \nAbout the Workshop \nThe Speaking Across Conflict Workshop Wake Forest is based on the “Resetting the Table” program. Participants learn to navigate difficult discussions with empathy and confidence. As a result\, they gain tools for everyday conversations at home\, at work\, and in their communities. \nThis workshop is ideal for community members\, faith leaders\, and educators. Moreover\, it benefits anyone engaged in civic or public life. Whether you’re navigating political disagreements or personal conflicts\, this workshop is for you. \nRegistration \nRegistration is open through April 13. You must register in advance to attend. To learn more\, visit wakeforestchristianchurch.org. You can also register by emailing JDavidGriffin24@gmail.com. \nChildcare is available upon request at the Saturday\, April 25th session. Please indicate your need when registering. \nMore Events \nFor more community events in Wake Forest\, visit our full events calendar. Wake Forest Matters keeps you informed about workshops\, concerts\, and local activities every week.
URL:https://wakeforestmatters.com/event/speaking-across-conflict-workshop/
END:VEVENT
BEGIN:VEVENT
DTSTART;TZID=America/New_York:20260424T070000
DTEND;TZID=America/New_York:20260424T100000
DTSTAMP:20260421T070411
CREATED:20260406T210825Z
LAST-MODIFIED:20260420T115234Z
UID:13055-1777014000-1777024800@wakeforestmatters.com
SUMMARY:Schitzngyggles LIVE at Gatehouse Tavern – Wake Forest
DESCRIPTION:📅 Date: Friday\, April 24\, 2026\n🕖 Time: 7:00 PM – 10:00 PM\n📍 Location: Gatehouse Tavern\, 960 Gateway Commons Cir\, Wake Forest\, NC 27587\n💰 Cost: Free to attend \nSchitzngyggles Wake Forest is back — and this time they’re bringing the house down at Gatehouse Tavern on Friday\, April 24\, 2026. The show is completely free and runs from 7:00 PM to 10:00 PM. Furthermore\, it is open to all ages and is one of the best live music nights Wake Forest has to offer. \nAbout Schitzngyggles \nSchitzngyggles Wake Forest fans know this band for their high-energy\, crowd-driven performances. They blend classic rock anthems\, traditional Irish tunes\, and pub party favorites into one seamless\, energetic set. As a result\, their shows appeal to listeners of all ages and music tastes. \nTheir signature sound blends familiar favorites with unexpected crowd-pleasers. Moreover\, the band encourages audience participation throughout the night. Whether it’s a rousing group sing-along or a spontaneous dance break\, the crowd is always part of the act. \nWhat to Expect \nExpect a full three hours of non-stop live music. In addition\, Gatehouse Tavern’s full bar and menu will be available all night. The tavern is well-known as one of Wake Forest’s most welcoming neighborhood venues\, making it the perfect setting for a fun night out. \nArrive early to grab a good seat. Schitzngyggles Wake Forest shows fill up fast\, especially on Friday nights. Admission is free — no tickets\, no reservations\, no hassle. Just show up and enjoy. \nMore Events in Wake Forest \nLooking for more things to do in Wake Forest? Check out our full Wake Forest events calendar to find upcoming community events\, concerts\, and local activities near you. Wake Forest Matters covers the best of what’s happening in our community every week.
URL:https://wakeforestmatters.com/event/schitzngyggles-live-at-gatehouse-tavern/
LOCATION:Gatehouse Tavern\, 960 Gateway Commons Cir\, Wake Forest\, NC\, 27587\, United States
END:VEVENT
BEGIN:VEVENT
DTSTART;TZID=America/New_York:20260418T080000
DTEND;TZID=America/New_York:20260418T120000
DTSTAMP:20260421T070411
CREATED:20260414T002922Z
LAST-MODIFIED:20260420T114439Z
UID:14263-1776499200-1776513600@wakeforestmatters.com
SUMMARY:Wake Forest Pride Yard Sale
DESCRIPTION:Venue: Wait Ave\nAddress: 407 Wait Ave\, Wake Forest\, NC 27587\nStart Time: 8:00 AM\nEnd Time: 12:00 PM \nWake Forest Pride Yard Sale is a community fundraiser on April 18\, 2026 at 407 Wait Ave\, Wake Forest — benefiting Wake Forest Pride programs and community events. Items are community sourced and all proceeds will go back into community programs and events. We’ll have a wide variety of treasures to browse — household items\, decor\, accessories\, clothing from the Pride Closet (unclaimed or extra)\, and more! \nPublic donations from the sale will be accepted the morning of from 7–8am. Large items will not be accepted due to transport limitations. \nLooking for more Wake Forest events? Check out our full community events calendar for more upcoming activities in Wake Forest\, NC. \nWe can’t wait to see you there!
URL:https://wakeforestmatters.com/event/wake-forest-pride-yard-sale/
END:VEVENT
END:VCALENDAR